Package: ChIPanalyser Version: 1.29.0 Command: rm -rf ChIPanalyser.buildbin-libdir && mkdir ChIPanalyser.buildbin-libdir && E:\biocbuild\bbs-3.21-bioc\R\bin\R.exe CMD INSTALL --build --library=ChIPanalyser.buildbin-libdir ChIPanalyser_1.29.0.tar.gz StartedAt: 2025-02-10 07:26:03 -0500 (Mon, 10 Feb 2025) EndedAt: 2025-02-10 07:29:23 -0500 (Mon, 10 Feb 2025) EllapsedTime: 200.1 seconds RetCode: 0 Status: OK PackageFile: ChIPanalyser_1.29.0.zip PackageFileSize: 1.956 MiB