Package: ChIPanalyser Version: 1.29.0 Command: chmod a+r ChIPanalyser -R && E:\biocbuild\bbs-3.21-bioc\R\bin\R.exe CMD build --keep-empty-dirs --no-resave-data ChIPanalyser StartedAt: 2025-02-04 17:46:34 -0500 (Tue, 04 Feb 2025) EndedAt: 2025-02-04 18:05:37 -0500 (Tue, 04 Feb 2025) EllapsedTime: 1142.9 seconds RetCode: 0 Status: OK PackageFile: ChIPanalyser_1.29.0.tar.gz PackageFileSize: 1.009 MiB