Package: ChIPexoQual Version: 1.31.0 Command: rm -rf ChIPexoQual.buildbin-libdir && mkdir ChIPexoQual.buildbin-libdir && /Users/biocbuild/BBS/utils/build-universal.sh ChIPexoQual_1.31.0.tar.gz /Library/Frameworks/R.framework/Resources/bin/R ChIPexoQual.buildbin-libdir StartedAt: 2025-02-04 22:10:55 -0500 (Tue, 04 Feb 2025) EndedAt: 2025-02-04 22:11:14 -0500 (Tue, 04 Feb 2025) EllapsedTime: 19.3 seconds RetCode: 0 Status: OK PackageFile: ChIPexoQual_1.31.0.tgz PackageFileSize: 2.524 MiB