Package: ChIPexoQual Version: 1.31.0 Command: /Library/Frameworks/R.framework/Resources/bin/R CMD build --keep-empty-dirs --no-resave-data ChIPexoQual StartedAt: 2025-02-09 15:52:44 -0500 (Sun, 09 Feb 2025) EndedAt: 2025-02-09 15:53:43 -0500 (Sun, 09 Feb 2025) EllapsedTime: 59.6 seconds RetCode: 0 Status: OK PackageFile: ChIPexoQual_1.31.0.tar.gz PackageFileSize: 2.459 MiB