Package: ChIPexoQual Version: 1.31.0 Command: /Library/Frameworks/R.framework/Resources/bin/R CMD INSTALL ChIPexoQual StartedAt: 2025-02-09 15:16:10 -0500 (Sun, 09 Feb 2025) EndedAt: 2025-02-09 15:16:28 -0500 (Sun, 09 Feb 2025) EllapsedTime: 18.6 seconds RetCode: 0 Status: OK