Package: ChIPexoQual Version: 1.31.0 Command: /Library/Frameworks/R.framework/Resources/bin/R CMD check --install=check:ChIPexoQual.install-out.txt --library=/Library/Frameworks/R.framework/Resources/library --no-vignettes --timings ChIPexoQual_1.31.0.tar.gz StartedAt: 2025-02-09 19:43:27 -0500 (Sun, 09 Feb 2025) EndedAt: 2025-02-09 19:51:09 -0500 (Sun, 09 Feb 2025) EllapsedTime: 462.4 seconds RetCode: 0 Status: OK CheckDir: ChIPexoQual.Rcheck Warnings: 0