Package: ChIPseeker Version: 1.43.0 Command: /home/biocbuild/R/R/bin/R CMD build --keep-empty-dirs --no-resave-data ChIPseeker StartedAt: 2025-01-28 21:48:20 -0000 (Tue, 28 Jan 2025) EndedAt: 2025-01-28 22:01:00 -0000 (Tue, 28 Jan 2025) EllapsedTime: 759.6 seconds RetCode: 0 Status: OK PackageFile: ChIPseeker_1.43.0.tar.gz PackageFileSize: 6.679 MiB