Package: ChIPseeker Version: 1.43.0 Command: rm -rf ChIPseeker.buildbin-libdir && mkdir ChIPseeker.buildbin-libdir && /Users/biocbuild/BBS/utils/build-universal.sh ChIPseeker_1.43.0.tar.gz /Library/Frameworks/R.framework/Resources/bin/R ChIPseeker.buildbin-libdir StartedAt: 2025-02-10 00:46:18 -0500 (Mon, 10 Feb 2025) EndedAt: 2025-02-10 00:47:22 -0500 (Mon, 10 Feb 2025) EllapsedTime: 64.5 seconds RetCode: 0 Status: OK PackageFile: ChIPseeker_1.43.0.tgz PackageFileSize: 7.393 MiB