Package: ChIPseeker Version: 1.43.0 Command: /Library/Frameworks/R.framework/Resources/bin/R CMD INSTALL ChIPseeker StartedAt: 2025-02-09 15:33:12 -0500 (Sun, 09 Feb 2025) EndedAt: 2025-02-09 15:34:15 -0500 (Sun, 09 Feb 2025) EllapsedTime: 63.6 seconds RetCode: 0 Status: OK