Package: ChIPseeker Version: 1.43.0 Command: chmod a+r ChIPseeker -R && E:\biocbuild\bbs-3.21-bioc\R\bin\R.exe CMD build --keep-empty-dirs --no-resave-data ChIPseeker StartedAt: 2025-02-10 18:00:13 -0500 (Mon, 10 Feb 2025) EndedAt: 2025-02-10 18:11:00 -0500 (Mon, 10 Feb 2025) EllapsedTime: 647.4 seconds RetCode: 0 Status: OK PackageFile: ChIPseeker_1.43.0.tar.gz PackageFileSize: 6.643 MiB