Package: ChIPseeker Version: 1.43.0 Command: E:\biocbuild\bbs-3.21-bioc\R\bin\R.exe CMD check --no-multiarch --install=check:ChIPseeker.install-out.txt --library=E:\biocbuild\bbs-3.21-bioc\R\library --no-vignettes --timings ChIPseeker_1.43.0.tar.gz StartedAt: 2025-02-10 23:47:38 -0500 (Mon, 10 Feb 2025) EndedAt: 2025-02-10 23:56:09 -0500 (Mon, 10 Feb 2025) EllapsedTime: 511.1 seconds RetCode: 0 Status: OK CheckDir: ChIPseeker.Rcheck Warnings: 0