Package: ChIPseeker Version: 1.43.0 Command: E:\biocbuild\bbs-3.21-bioc\R\bin\R.exe CMD INSTALL ChIPseeker StartedAt: 2025-02-10 16:39:16 -0500 (Mon, 10 Feb 2025) EndedAt: 2025-02-10 16:40:37 -0500 (Mon, 10 Feb 2025) EllapsedTime: 81.9 seconds RetCode: 0 Status: OK