Package: ChemmineOB Version: 1.45.0 Command: /home/biocbuild/R/R/bin/R CMD check --install=check:ChemmineOB.install-out.txt --library=/home/biocbuild/R/R/site-library --no-vignettes --timings ChemmineOB_1.45.0.tar.gz StartedAt: 2024-12-13 11:23:31 -0000 (Fri, 13 Dec 2024) EndedAt: 2024-12-13 11:25:28 -0000 (Fri, 13 Dec 2024) EllapsedTime: 116.6 seconds RetCode: 1 Status: ERROR CheckDir: ChemmineOB.Rcheck Warnings: NA