Package: ChemmineOB Version: 1.45.0 Command: /home/biocbuild/bbs-3.21-bioc/R/bin/R CMD build --keep-empty-dirs --no-resave-data ChemmineOB StartedAt: 2025-02-09 16:37:10 -0500 (Sun, 09 Feb 2025) EndedAt: 2025-02-09 16:39:04 -0500 (Sun, 09 Feb 2025) EllapsedTime: 114.2 seconds RetCode: 0 Status: OK PackageFile: ChemmineOB_1.45.0.tar.gz PackageFileSize: 1.303 MiB