Package: ChemmineOB Version: 1.45.0 Command: /home/biocbuild/bbs-3.21-bioc/R/bin/R CMD check --install=check:ChemmineOB.install-out.txt --library=/home/biocbuild/bbs-3.21-bioc/R/site-library --timings ChemmineOB_1.45.0.tar.gz StartedAt: 2025-02-09 20:51:43 -0500 (Sun, 09 Feb 2025) EndedAt: 2025-02-09 20:53:14 -0500 (Sun, 09 Feb 2025) EllapsedTime: 91.2 seconds RetCode: 0 Status: WARNINGS CheckDir: ChemmineOB.Rcheck Warnings: 3