Package: ChemmineOB Version: 1.45.0 Command: rm -rf ChemmineOB.buildbin-libdir && mkdir ChemmineOB.buildbin-libdir && E:\biocbuild\bbs-3.21-bioc\R\bin\R.exe CMD INSTALL --build --library=ChemmineOB.buildbin-libdir ChemmineOB_1.45.0.tar.gz StartedAt: 2025-02-10 07:25:38 -0500 (Mon, 10 Feb 2025) EndedAt: 2025-02-10 07:38:04 -0500 (Mon, 10 Feb 2025) EllapsedTime: 746.0 seconds RetCode: 0 Status: OK PackageFile: ChemmineOB_1.45.0.zip PackageFileSize: 7.222 MiB