Package: ChemmineOB Version: 1.45.0 Command: chmod a+r ChemmineOB -R && E:\biocbuild\bbs-3.21-bioc\R\bin\R.exe CMD build --keep-empty-dirs --no-resave-data ChemmineOB StartedAt: 2025-02-09 17:47:32 -0500 (Sun, 09 Feb 2025) EndedAt: 2025-02-09 17:54:15 -0500 (Sun, 09 Feb 2025) EllapsedTime: 402.8 seconds RetCode: 0 Status: OK PackageFile: ChemmineOB_1.45.0.tar.gz PackageFileSize: 1.303 MiB