Package: ChemmineOB Version: 1.45.0 Command: E:\biocbuild\bbs-3.21-bioc\R\bin\R.exe CMD INSTALL ChemmineOB StartedAt: 2025-02-09 15:21:30 -0500 (Sun, 09 Feb 2025) EndedAt: 2025-02-09 15:33:30 -0500 (Sun, 09 Feb 2025) EllapsedTime: 719.8 seconds RetCode: 0 Status: OK