Package: ChemmineR Version: 3.59.0 Command: /home/biocbuild/R/R/bin/R CMD check --install=check:ChemmineR.install-out.txt --library=/home/biocbuild/R/R/site-library --no-vignettes --timings ChemmineR_3.59.0.tar.gz StartedAt: 2025-01-28 09:06:08 -0000 (Tue, 28 Jan 2025) EndedAt: 2025-01-28 09:08:25 -0000 (Tue, 28 Jan 2025) EllapsedTime: 137.1 seconds RetCode: 0 Status: WARNINGS CheckDir: ChemmineR.Rcheck Warnings: 3