Package: ChemmineR Version: 3.59.0 Command: /home/biocbuild/R/R/bin/R CMD INSTALL ChemmineR StartedAt: 2025-01-29 20:29:11 -0000 (Wed, 29 Jan 2025) EndedAt: 2025-01-29 20:29:49 -0000 (Wed, 29 Jan 2025) EllapsedTime: 38.1 seconds RetCode: 0 Status: OK