Package: ChemmineR Version: 3.59.0 Command: /Library/Frameworks/R.framework/Resources/bin/R CMD build --keep-empty-dirs --no-resave-data ChemmineR StartedAt: 2025-02-09 16:14:31 -0500 (Sun, 09 Feb 2025) EndedAt: 2025-02-09 16:16:12 -0500 (Sun, 09 Feb 2025) EllapsedTime: 100.7 seconds RetCode: 0 Status: OK PackageFile: ChemmineR_3.59.0.tar.gz PackageFileSize: 2.243 MiB