Package: ChemmineR Version: 3.59.0 Command: /Library/Frameworks/R.framework/Resources/bin/R CMD check --install=check:ChemmineR.install-out.txt --library=/Library/Frameworks/R.framework/Resources/library --no-vignettes --timings ChemmineR_3.59.0.tar.gz StartedAt: 2025-02-09 19:42:08 -0500 (Sun, 09 Feb 2025) EndedAt: 2025-02-09 19:44:35 -0500 (Sun, 09 Feb 2025) EllapsedTime: 147.2 seconds RetCode: 0 Status: WARNINGS CheckDir: ChemmineR.Rcheck Warnings: 1