Package: ChemmineR Version: 3.59.0 Command: /home/biocbuild/bbs-3.21-bioc/R/bin/R CMD build --keep-empty-dirs --no-resave-data ChemmineR StartedAt: 2025-02-09 16:37:11 -0500 (Sun, 09 Feb 2025) EndedAt: 2025-02-09 16:38:04 -0500 (Sun, 09 Feb 2025) EllapsedTime: 53.1 seconds RetCode: 0 Status: OK PackageFile: ChemmineR_3.59.0.tar.gz PackageFileSize: 2.099 MiB