Package: ChemmineR Version: 3.59.0 Command: /home/biocbuild/bbs-3.21-bioc/R/bin/R CMD check --install=check:ChemmineR.install-out.txt --library=/home/biocbuild/bbs-3.21-bioc/R/site-library --timings ChemmineR_3.59.0.tar.gz StartedAt: 2025-02-04 20:49:33 -0500 (Tue, 04 Feb 2025) EndedAt: 2025-02-04 20:51:43 -0500 (Tue, 04 Feb 2025) EllapsedTime: 130.3 seconds RetCode: 0 Status: WARNINGS CheckDir: ChemmineR.Rcheck Warnings: 1