Package: ChemmineR Version: 3.59.0 Command: E:\biocbuild\bbs-3.21-bioc\R\bin\R.exe CMD INSTALL ChemmineR StartedAt: 2025-02-04 16:47:40 -0500 (Tue, 04 Feb 2025) EndedAt: 2025-02-04 16:49:42 -0500 (Tue, 04 Feb 2025) EllapsedTime: 122.2 seconds RetCode: 0 Status: OK