Package: Chicago Version: 1.35.0 Command: /Library/Frameworks/R.framework/Resources/bin/R CMD INSTALL Chicago StartedAt: 2025-02-09 15:15:38 -0500 (Sun, 09 Feb 2025) EndedAt: 2025-02-09 15:15:42 -0500 (Sun, 09 Feb 2025) EllapsedTime: 3.2 seconds RetCode: 0 Status: OK