Package: Chicago Version: 1.35.0 Command: /Library/Frameworks/R.framework/Resources/bin/R CMD build --keep-empty-dirs --no-resave-data Chicago StartedAt: 2025-02-09 16:14:50 -0500 (Sun, 09 Feb 2025) EndedAt: 2025-02-09 16:16:30 -0500 (Sun, 09 Feb 2025) EllapsedTime: 99.5 seconds RetCode: 0 Status: OK PackageFile: Chicago_1.35.0.tar.gz PackageFileSize: 1.209 MiB