Package: Chicago Version: 1.35.0 Command: /home/biocbuild/bbs-3.21-bioc/R/bin/R CMD check --install=check:Chicago.install-out.txt --library=/home/biocbuild/bbs-3.21-bioc/R/site-library --timings Chicago_1.35.0.tar.gz StartedAt: 2025-02-09 20:52:38 -0500 (Sun, 09 Feb 2025) EndedAt: 2025-02-09 20:55:26 -0500 (Sun, 09 Feb 2025) EllapsedTime: 168.3 seconds RetCode: 0 Status: OK CheckDir: Chicago.Rcheck Warnings: 0