Package: Chicago Version: 1.35.0 Command: /home/biocbuild/bbs-3.21-bioc/R/bin/R CMD INSTALL Chicago StartedAt: 2025-02-09 15:08:52 -0500 (Sun, 09 Feb 2025) EndedAt: 2025-02-09 15:09:02 -0500 (Sun, 09 Feb 2025) EllapsedTime: 10.2 seconds RetCode: 0 Status: OK