Package: Chicago Version: 1.35.0 Command: rm -rf Chicago.buildbin-libdir && mkdir Chicago.buildbin-libdir && E:\biocbuild\bbs-3.21-bioc\R\bin\R.exe CMD INSTALL --build --library=Chicago.buildbin-libdir Chicago_1.35.0.tar.gz StartedAt: 2025-02-05 07:38:00 -0500 (Wed, 05 Feb 2025) EndedAt: 2025-02-05 07:38:48 -0500 (Wed, 05 Feb 2025) EllapsedTime: 48.0 seconds RetCode: 0 Status: OK PackageFile: Chicago_1.35.0.zip PackageFileSize: 1.025 MiB