Package: Chicago Version: 1.35.0 Command: E:\biocbuild\bbs-3.21-bioc\R\bin\R.exe CMD check --no-multiarch --install=check:Chicago.install-out.txt --library=E:\biocbuild\bbs-3.21-bioc\R\library --no-vignettes --timings Chicago_1.35.0.tar.gz StartedAt: 2025-02-05 00:00:49 -0500 (Wed, 05 Feb 2025) EndedAt: 2025-02-05 00:03:39 -0500 (Wed, 05 Feb 2025) EllapsedTime: 170.0 seconds RetCode: 0 Status: OK CheckDir: Chicago.Rcheck Warnings: 0