Package: ChromHeatMap Version: 1.61.0 Command: /Library/Frameworks/R.framework/Resources/bin/R CMD check --install=check:ChromHeatMap.install-out.txt --library=/Library/Frameworks/R.framework/Resources/library --no-vignettes --timings ChromHeatMap_1.61.0.tar.gz StartedAt: 2025-02-04 18:31:50 -0500 (Tue, 04 Feb 2025) EndedAt: 2025-02-04 18:33:24 -0500 (Tue, 04 Feb 2025) EllapsedTime: 94.1 seconds RetCode: 0 Status: OK CheckDir: ChromHeatMap.Rcheck Warnings: 0