Package: ChromHeatMap Version: 1.61.0 Command: /home/biocbuild/R/R/bin/R CMD check --install=check:ChromHeatMap.install-out.txt --library=/home/biocbuild/R/R/site-library --no-vignettes --timings ChromHeatMap_1.61.0.tar.gz StartedAt: 2025-01-28 09:09:37 -0000 (Tue, 28 Jan 2025) EndedAt: 2025-01-28 09:14:54 -0000 (Tue, 28 Jan 2025) EllapsedTime: 316.2 seconds RetCode: 0 Status: OK CheckDir: ChromHeatMap.Rcheck Warnings: 0