Package: ChromHeatMap Version: 1.61.0 Command: rm -rf ChromHeatMap.buildbin-libdir && mkdir ChromHeatMap.buildbin-libdir && /Users/biocbuild/BBS/utils/build-universal.sh ChromHeatMap_1.61.0.tar.gz /Library/Frameworks/R.framework/Resources/bin/R ChromHeatMap.buildbin-libdir StartedAt: 2025-02-05 00:32:54 -0500 (Wed, 05 Feb 2025) EndedAt: 2025-02-05 00:33:41 -0500 (Wed, 05 Feb 2025) EllapsedTime: 47.2 seconds RetCode: 0 Status: OK PackageFile: ChromHeatMap_1.61.0.tgz PackageFileSize: 674 KiB