Package: ChromHeatMap Version: 1.61.0 Command: /Library/Frameworks/R.framework/Resources/bin/R CMD build --keep-empty-dirs --no-resave-data ChromHeatMap StartedAt: 2025-02-04 16:13:18 -0500 (Tue, 04 Feb 2025) EndedAt: 2025-02-04 16:14:11 -0500 (Tue, 04 Feb 2025) EllapsedTime: 52.3 seconds RetCode: 0 Status: OK PackageFile: ChromHeatMap_1.61.0.tar.gz PackageFileSize: 317.1 KiB