Package: ChromHeatMap Version: 1.61.0 Command: /Library/Frameworks/R.framework/Resources/bin/R CMD check --install=check:ChromHeatMap.install-out.txt --library=/Library/Frameworks/R.framework/Resources/library --no-vignettes --timings ChromHeatMap_1.61.0.tar.gz StartedAt: 2025-02-04 19:33:02 -0500 (Tue, 04 Feb 2025) EndedAt: 2025-02-04 19:37:18 -0500 (Tue, 04 Feb 2025) EllapsedTime: 256.0 seconds RetCode: 0 Status: OK CheckDir: ChromHeatMap.Rcheck Warnings: 0