Package: ChromHeatMap Version: 1.61.0 Command: /Library/Frameworks/R.framework/Resources/bin/R CMD INSTALL ChromHeatMap StartedAt: 2025-02-04 15:17:37 -0500 (Tue, 04 Feb 2025) EndedAt: 2025-02-04 15:18:26 -0500 (Tue, 04 Feb 2025) EllapsedTime: 49.7 seconds RetCode: 0 Status: OK