Package: ChromHeatMap Version: 1.61.0 Command: /home/biocbuild/bbs-3.21-bioc/R/bin/R CMD build --keep-empty-dirs --no-resave-data ChromHeatMap StartedAt: 2025-02-04 16:36:22 -0500 (Tue, 04 Feb 2025) EndedAt: 2025-02-04 16:37:11 -0500 (Tue, 04 Feb 2025) EllapsedTime: 49.1 seconds RetCode: 0 Status: OK PackageFile: ChromHeatMap_1.61.0.tar.gz PackageFileSize: 317.7 KiB