Package: ChromHeatMap Version: 1.61.0 Command: /home/biocbuild/bbs-3.21-bioc/R/bin/R CMD check --install=check:ChromHeatMap.install-out.txt --library=/home/biocbuild/bbs-3.21-bioc/R/site-library --timings ChromHeatMap_1.61.0.tar.gz StartedAt: 2025-02-04 20:52:35 -0500 (Tue, 04 Feb 2025) EndedAt: 2025-02-04 20:57:01 -0500 (Tue, 04 Feb 2025) EllapsedTime: 266.3 seconds RetCode: 0 Status: OK CheckDir: ChromHeatMap.Rcheck Warnings: 0