Package: ChromHeatMap Version: 1.61.0 Command: /home/biocbuild/bbs-3.21-bioc/R/bin/R CMD INSTALL ChromHeatMap StartedAt: 2025-02-09 15:27:18 -0500 (Sun, 09 Feb 2025) EndedAt: 2025-02-09 15:27:53 -0500 (Sun, 09 Feb 2025) EllapsedTime: 34.9 seconds RetCode: 0 Status: OK