Package: ChromHeatMap Version: 1.61.0 Command: rm -rf ChromHeatMap.buildbin-libdir && mkdir ChromHeatMap.buildbin-libdir && E:\biocbuild\bbs-3.21-bioc\R\bin\R.exe CMD INSTALL --build --library=ChromHeatMap.buildbin-libdir ChromHeatMap_1.61.0.tar.gz StartedAt: 2025-02-10 07:26:45 -0500 (Mon, 10 Feb 2025) EndedAt: 2025-02-10 07:27:47 -0500 (Mon, 10 Feb 2025) EllapsedTime: 62.4 seconds RetCode: 0 Status: OK PackageFile: ChromHeatMap_1.61.0.zip PackageFileSize: 577 KiB