Package: ChromHeatMap Version: 1.61.0 Command: E:\biocbuild\bbs-3.21-bioc\R\bin\R.exe CMD check --no-multiarch --install=check:ChromHeatMap.install-out.txt --library=E:\biocbuild\bbs-3.21-bioc\R\library --no-vignettes --timings ChromHeatMap_1.61.0.tar.gz StartedAt: 2025-02-09 23:36:46 -0500 (Sun, 09 Feb 2025) EndedAt: 2025-02-09 23:42:15 -0500 (Sun, 09 Feb 2025) EllapsedTime: 328.9 seconds RetCode: 0 Status: OK CheckDir: ChromHeatMap.Rcheck Warnings: 0