Package: ChromHeatMap Version: 1.61.0 Command: E:\biocbuild\bbs-3.21-bioc\R\bin\R.exe CMD INSTALL ChromHeatMap StartedAt: 2025-02-09 16:30:44 -0500 (Sun, 09 Feb 2025) EndedAt: 2025-02-09 16:31:54 -0500 (Sun, 09 Feb 2025) EllapsedTime: 69.5 seconds RetCode: 0 Status: OK