Package: ChromSCape Version: 1.17.0 Command: /home/biocbuild/R/R/bin/R CMD build --keep-empty-dirs --no-resave-data ChromSCape StartedAt: 2025-01-28 21:50:27 -0000 (Tue, 28 Jan 2025) EndedAt: 2025-01-28 21:52:03 -0000 (Tue, 28 Jan 2025) EllapsedTime: 96.0 seconds RetCode: 0 Status: OK PackageFile: ChromSCape_1.17.0.tar.gz PackageFileSize: 5.326 MiB