Package: ChromSCape Version: 1.17.0 Command: /Library/Frameworks/R.framework/Resources/bin/R CMD INSTALL ChromSCape StartedAt: 2025-02-09 15:45:36 -0500 (Sun, 09 Feb 2025) EndedAt: 2025-02-09 15:46:41 -0500 (Sun, 09 Feb 2025) EllapsedTime: 64.9 seconds RetCode: 0 Status: OK