Package: ChromSCape Version: 1.17.0 Command: /home/biocbuild/bbs-3.21-bioc/R/bin/R CMD INSTALL ChromSCape StartedAt: 2025-02-09 15:52:34 -0500 (Sun, 09 Feb 2025) EndedAt: 2025-02-09 15:53:26 -0500 (Sun, 09 Feb 2025) EllapsedTime: 52.0 seconds RetCode: 0 Status: OK