Package: ChromSCape Version: 1.17.0 Command: rm -rf ChromSCape.buildbin-libdir && mkdir ChromSCape.buildbin-libdir && E:\biocbuild\bbs-3.21-bioc\R\bin\R.exe CMD INSTALL --build --library=ChromSCape.buildbin-libdir ChromSCape_1.17.0.tar.gz StartedAt: 2025-02-10 07:26:58 -0500 (Mon, 10 Feb 2025) EndedAt: 2025-02-10 07:29:18 -0500 (Mon, 10 Feb 2025) EllapsedTime: 140.0 seconds RetCode: 0 Status: OK PackageFile: ChromSCape_1.17.0.zip PackageFileSize: 6.11 MiB