Package: ChromSCape Version: 1.17.0 Command: chmod a+r ChromSCape -R && E:\biocbuild\bbs-3.21-bioc\R\bin\R.exe CMD build --keep-empty-dirs --no-resave-data ChromSCape StartedAt: 2025-02-09 17:50:47 -0500 (Sun, 09 Feb 2025) EndedAt: 2025-02-09 17:54:40 -0500 (Sun, 09 Feb 2025) EllapsedTime: 232.8 seconds RetCode: 0 Status: OK PackageFile: ChromSCape_1.17.0.tar.gz PackageFileSize: 5.303 MiB