Package: ChromSCape Version: 1.17.0 Command: E:\biocbuild\bbs-3.21-bioc\R\bin\R.exe CMD INSTALL ChromSCape StartedAt: 2025-02-09 16:58:01 -0500 (Sun, 09 Feb 2025) EndedAt: 2025-02-09 17:00:00 -0500 (Sun, 09 Feb 2025) EllapsedTime: 119.3 seconds RetCode: 0 Status: OK