Package: CircSeqAlignTk Version: 1.9.0 Command: /Library/Frameworks/R.framework/Resources/bin/R CMD build --keep-empty-dirs --no-resave-data CircSeqAlignTk StartedAt: 2025-02-09 15:54:16 -0500 (Sun, 09 Feb 2025) EndedAt: 2025-02-09 15:55:32 -0500 (Sun, 09 Feb 2025) EllapsedTime: 75.9 seconds RetCode: 0 Status: OK PackageFile: CircSeqAlignTk_1.9.0.tar.gz PackageFileSize: 2.05 MiB